BEGIN:VCALENDAR
VERSION:2.0
PRODID:-//Start With Profit - ECPv6.3.4//NONSGML v1.0//EN
CALSCALE:GREGORIAN
METHOD:PUBLISH
X-WR-CALNAME:Start With Profit
X-ORIGINAL-URL:https://startwithprofit.consulting
X-WR-CALDESC:Events for Start With Profit
REFRESH-INTERVAL;VALUE=DURATION:PT1H
X-Robots-Tag:noindex
X-PUBLISHED-TTL:PT1H
BEGIN:VTIMEZONE
TZID:UTC
BEGIN:STANDARD
TZOFFSETFROM:+0000
TZOFFSETTO:+0000
TZNAME:UTC
DTSTART:20230101T000000
END:STANDARD
END:VTIMEZONE
BEGIN:VEVENT
DTSTART;TZID=UTC:20230628T080000
DTEND;TZID=UTC:20230628T170000
DTSTAMP:20260420T013044
CREATED:20230628T154937Z
LAST-MODIFIED:20230628T154937Z
UID:40-1687939200-1687971600@startwithprofit.consulting
SUMMARY:Growth Pricing Workshop
DESCRIPTION:Designed exclusively for teams of executives and business leaders. Register for up to 4 people per organization for $9\,995.
URL:https://startwithprofit.consulting/event/growth-pricing-workshop/
END:VEVENT
END:VCALENDAR